* using log directory ‘/data/blackswan/ripley/R/packages/tests-vg/mwaved.Rcheck’ * using R Under development (unstable) (2022-02-15 r81739) * using platform: x86_64-pc-linux-gnu (64-bit) * using session charset: UTF-8 * using options ‘--use-valgrind --no-stop-on-test-error’ * checking for file ‘mwaved/DESCRIPTION’ ... OK * checking extension type ... Package * this is package ‘mwaved’ version ‘1.1.8’ * package encoding: UTF-8 * checking package dependencies ... OK * checking if this is a source package ... OK * checking if there is a namespace ... OK * checking for hidden files and directories ... OK * checking for portable file names ... OK * checking whether package ‘mwaved’ can be installed ... [36s/36s] OK * checking package directory ... OK * checking whether the package can be loaded ... OK * checking whether the package can be loaded with stated dependencies ... OK * checking whether the package can be unloaded cleanly ... OK * checking whether the namespace can be loaded with stated dependencies ... OK * checking whether the namespace can be unloaded cleanly ... OK * checking loading without being on the library search path ... OK * checking compiled code ... OK * checking installed files from ‘inst/doc’ ... OK * checking files in ‘vignettes’ ... OK * checking examples ... [256s/257s] OK * checking tests ... [89s/92s] OK Running ‘testthat.R’ [89s/91s] * checking package vignettes in ‘inst/doc’ ... OK * checking running R code from vignettes ... [35s/38s] OK ‘mWaveD.Rmd’ using ‘UTF-8’... [35s/38s] OK * checking re-building of vignette outputs ... [17m/17m] OK * DONE Status: OK