* using log directory ‘/data/blackswan/ripley/R/packages/tests-vg/dtts.Rcheck’ * using R Under development (unstable) (2023-01-24 r83676) * using platform: x86_64-pc-linux-gnu (64-bit) * R was compiled by gcc (GCC) 11.3.1 20220421 (Red Hat 11.3.1-2) GNU Fortran (GCC) 11.3.1 20220421 (Red Hat 11.3.1-2) * running under: Fedora 34 (Workstation Edition) * using session charset: UTF-8 * using options ‘--use-valgrind --no-stop-on-test-error’ * checking for file ‘dtts/DESCRIPTION’ ... OK * checking extension type ... Package * this is package ‘dtts’ version ‘0.1.0’ * package encoding: UTF-8 * checking package dependencies ... OK * checking if this is a source package ... OK * checking if there is a namespace ... OK * checking for hidden files and directories ... OK * checking for portable file names ... OK * checking whether package ‘dtts’ can be installed ... [24s/25s] OK * used C++ compiler: ‘g++ (GCC) 11.3.1 20220421 (Red Hat 11.3.1-2)’ * checking package directory ... OK * checking whether the package can be loaded ... OK * checking whether the package can be loaded with stated dependencies ... OK * checking whether the package can be unloaded cleanly ... OK * checking whether the namespace can be loaded with stated dependencies ... OK * checking whether the namespace can be unloaded cleanly ... OK * checking loading without being on the library search path ... OK * checking compiled code ... OK * checking examples ... [106s/106s] OK * checking tests ... [146s/147s] OK Running ‘tinytest.R’ [146s/147s] * DONE Status: OK