* using log directory ‘/data/blackswan/ripley/R/packages/tests-vg/Rpcop.Rcheck’ * using R Under development (unstable) (2023-07-25 r84750) * using platform: x86_64-pc-linux-gnu * R was compiled by gcc (GCC) 11.3.1 20220421 (Red Hat 11.3.1-2) GNU Fortran (GCC) 11.3.1 20220421 (Red Hat 11.3.1-2) * running under: Fedora 34 (Workstation Edition) * using session charset: UTF-8 * using options ‘--use-valgrind --no-stop-on-test-error’ * checking for file ‘Rpcop/DESCRIPTION’ ... OK * checking extension type ... Package * this is package ‘Rpcop’ version ‘1.1’ * checking package dependencies ... OK * checking if this is a source package ... OK * checking if there is a namespace ... OK * checking for hidden files and directories ... OK * checking for portable file names ... OK * checking whether package ‘Rpcop’ can be installed ... [28s/28s] OK * used C++ compiler: ‘g++ (GCC) 11.3.1 20220421 (Red Hat 11.3.1-2)’ * checking package directory ... OK * checking whether the package can be loaded ... OK * checking whether the package can be loaded with stated dependencies ... OK * checking whether the package can be unloaded cleanly ... OK * checking whether the namespace can be loaded with stated dependencies ... OK * checking whether the namespace can be unloaded cleanly ... OK * checking loading without being on the library search path ... OK * checking compiled code ... OK * checking examples ... [45s/45s] OK * DONE Status: OK