* using log directory ‘/data/gannet/ripley/R/packages/tests-gcc-SAN/pedmod.Rcheck’ * using R Under development (unstable) (2024-06-18 r86779) * using platform: x86_64-pc-linux-gnu * R was compiled by gcc-14 (GCC) 14.1.0 GNU Fortran (GCC) 14.1.0 * running under: Fedora Linux 36 (Workstation Edition) * using session charset: UTF-8 * using option ‘--no-stop-on-test-error’ * checking for file ‘pedmod/DESCRIPTION’ ... OK * checking extension type ... Package * this is package ‘pedmod’ version ‘0.2.4’ * package encoding: UTF-8 * checking package dependencies ... OK * checking if this is a source package ... OK * checking if there is a namespace ... OK * checking for hidden files and directories ... OK * checking for portable file names ... OK * checking whether package ‘pedmod’ can be installed ... [752s/353s] OK * used C compiler: ‘gcc-14 (GCC) 14.1.0’ * used Fortran compiler: ‘GNU Fortran (GCC) 14.1.0’ * used C++ compiler: ‘g++-14 (GCC) 14.1.0’ * checking C++ specification ... OK * checking package directory ... OK * checking whether the package can be loaded ... OK * checking whether the package can be loaded with stated dependencies ... OK * checking whether the package can be unloaded cleanly ... OK * checking whether the namespace can be loaded with stated dependencies ... OK * checking whether the namespace can be unloaded cleanly ... OK * checking loading without being on the library search path ... OK * checking compiled code ... OK * checking usage of KIND in Fortran files ... OK * checking installed files from ‘inst/doc’ ... OK * checking files in ‘vignettes’ ... OK * checking examples ... [13s/13s] OK * checking tests ... [152s/146s] OK Running ‘testthat.R’ [151s/145s] * checking package vignettes ... OK * checking re-building of vignette outputs ... [24s/24s] OK * DONE Status: OK