* using log directory ‘/data/gannet/ripley/R/packages/tests-gcc-SAN/iglm.Rcheck’ * using R Under development (unstable) (2025-11-25 r89063) * using platform: x86_64-pc-linux-gnu * R was compiled by gcc (GCC) 15.1.1 20250521 (Red Hat 15.1.1-2) GNU Fortran (GCC) 15.1.1 20250521 (Red Hat 15.1.1-2) * running under: Fedora Linux 42 (Workstation Edition) * using session charset: UTF-8 * using option ‘--no-stop-on-test-error’ * checking for file ‘iglm/DESCRIPTION’ ... OK * checking extension type ... Package * this is package ‘iglm’ version ‘1.0’ * package encoding: UTF-8 * checking package dependencies ... OK * checking if this is a source package ... OK * checking if there is a namespace ... OK * checking for hidden files and directories ... OK * checking for portable file names ... OK * checking whether package ‘iglm’ can be installed ... [485s/191s] OK * used C++ compiler: ‘g++ (GCC) 15.1.1 20250521 (Red Hat 15.1.1-2)’ * checking C++ specification ... OK * checking package directory ... OK * checking whether the package can be loaded ... OK * checking whether the package can be loaded with stated dependencies ... OK * checking whether the package can be unloaded cleanly ... OK * checking whether the namespace can be loaded with stated dependencies ... OK * checking whether the namespace can be unloaded cleanly ... OK * checking loading without being on the library search path ... OK * checking compiled code ... OK * checking installed files from ‘inst/doc’ ... OK * checking files in ‘vignettes’ ... OK * checking examples ... [47s/48s] OK * checking tests ... [25s/23s] OK Running ‘testthat.R’ [24s/22s] * checking package vignettes ... OK * checking re-building of vignette outputs ... [59s/60s] OK * DONE Status: OK