* using log directory ‘/data/gannet/ripley/R/packages/tests-gcc-SAN/ProTrackR2.Rcheck’ * using R Under development (unstable) (2025-11-11 r88995) * using platform: x86_64-pc-linux-gnu * R was compiled by gcc (GCC) 15.1.1 20250521 (Red Hat 15.1.1-2) GNU Fortran (GCC) 15.1.1 20250521 (Red Hat 15.1.1-2) * running under: Fedora Linux 42 (Workstation Edition) * using session charset: UTF-8 * using option ‘--no-stop-on-test-error’ * checking for file ‘ProTrackR2/DESCRIPTION’ ... OK * this is package ‘ProTrackR2’ version ‘0.1.0’ * package encoding: UTF-8 * checking package dependencies ... OK * checking if this is a source package ... OK * checking if there is a namespace ... OK * checking for hidden files and directories ... OK * checking for portable file names ... OK * checking whether package ‘ProTrackR2’ can be installed ... [96s/165s] OK * used C++ compiler: ‘g++ (GCC) 15.1.1 20250521 (Red Hat 15.1.1-2)’ * checking package directory ... OK * checking whether the package can be loaded ... OK * checking whether the package can be loaded with stated dependencies ... OK * checking whether the package can be unloaded cleanly ... OK * checking whether the namespace can be loaded with stated dependencies ... OK * checking whether the namespace can be unloaded cleanly ... OK * checking loading without being on the library search path ... OK * checking compiled code ... OK * checking installed files from ‘inst/doc’ ... OK * checking files in ‘vignettes’ ... OK * checking examples ... [11s/21s] OK * checking tests ... [22s/56s] OK Running ‘testthat.R’ [20s/51s] * checking package vignettes ... OK * checking re-building of vignette outputs ... [106s/173s] OK * DONE Status: OK