* using log directory ‘/data/gannet/ripley/R/packages/tests-clang-SAN/pfocal.Rcheck’ * using R Under development (unstable) (2022-07-06 r82552) * using platform: x86_64-pc-linux-gnu (64-bit) * using session charset: UTF-8 * using option ‘--no-stop-on-test-error’ * checking for file ‘pfocal/DESCRIPTION’ ... OK * checking extension type ... Package * this is package ‘pfocal’ version ‘1.0.0’ * package encoding: UTF-8 * checking package dependencies ... OK * checking if this is a source package ... OK * checking if there is a namespace ... OK * checking for hidden files and directories ... OK * checking for portable file names ... OK * checking whether package ‘pfocal’ can be installed ... [13m/13m] OK * checking package directory ... OK * checking whether the package can be loaded ... OK * checking whether the package can be loaded with stated dependencies ... OK * checking whether the package can be unloaded cleanly ... OK * checking whether the namespace can be loaded with stated dependencies ... OK * checking whether the namespace can be unloaded cleanly ... OK * checking loading without being on the library search path ... OK * checking compiled code ... OK * checking installed files from ‘inst/doc’ ... OK * checking files in ‘vignettes’ ... OK * checking examples ... OK * checking tests ... [66s/66s] OK Running ‘testthat.R’ [65s/65s] * checking package vignettes in ‘inst/doc’ ... OK * checking re-building of vignette outputs ... [19m/14m] OK * DONE Status: OK