* using log directory ‘/data/gannet/ripley/R/packages/tests-clang-SAN/cgalPolygons.Rcheck’ * using R Under development (unstable) (2023-08-12 r84939) * using platform: x86_64-pc-linux-gnu * R was compiled by clang version 16.0.6 GNU Fortran (GCC) 13.2.0 * running under: Fedora Linux 36 (Workstation Edition) * using session charset: UTF-8 * using option ‘--no-stop-on-test-error’ * checking for file ‘cgalPolygons/DESCRIPTION’ ... OK * checking extension type ... Package * this is package ‘cgalPolygons’ version ‘0.1.1’ * package encoding: UTF-8 * checking package dependencies ... OK * checking if this is a source package ... OK * checking if there is a namespace ... OK * checking for hidden files and directories ... OK * checking for portable file names ... OK * checking whether package ‘cgalPolygons’ can be installed ... [1490s/559s] OK * used C++ compiler: ‘clang version 16.0.6’ * checking C++ specification ... OK Not all R platforms support C++17 * checking package directory ... OK * checking whether the package can be loaded ... OK * checking whether the package can be loaded with stated dependencies ... OK * checking whether the package can be unloaded cleanly ... OK * checking whether the namespace can be loaded with stated dependencies ... OK * checking whether the namespace can be unloaded cleanly ... OK * checking loading without being on the library search path ... OK * checking compiled code ... OK * checking examples ... [29s/32s] OK * DONE Status: OK