* using log directory ‘/data/gannet/ripley/R/packages/tests-clang-SAN/RUVIIIC.Rcheck’ * using R Under development (unstable) (2021-04-09 r80154) * using platform: x86_64-pc-linux-gnu (64-bit) * using session charset: UTF-8 * using option ‘--no-stop-on-test-error’ * checking for file ‘RUVIIIC/DESCRIPTION’ ... OK * checking extension type ... Package * this is package ‘RUVIIIC’ version ‘1.0.18’ * package encoding: UTF-8 * checking package dependencies ... OK * checking if this is a source package ... OK * checking if there is a namespace ... OK * checking for hidden files and directories ... OK * checking for portable file names ... OK * checking whether package ‘RUVIIIC’ can be installed ... [442s/318s] OK * checking package directory ... OK * checking whether the package can be loaded ... OK * checking whether the package can be loaded with stated dependencies ... OK * checking whether the package can be unloaded cleanly ... OK * checking whether the namespace can be loaded with stated dependencies ... OK * checking whether the namespace can be unloaded cleanly ... OK * checking loading without being on the library search path ... OK * checking contents of ‘data’ directory ... OK * checking LazyData ... OK * checking compiled code ... OK * checking examples ... [43s/44s] OK * checking tests ... [65s/45s] OK Running ‘testthat.R’ [64s/44s] * DONE Status: OK